BEGIN:VCALENDAR
VERSION:2.0
PRODID:-//CERN//INDICO//EN
BEGIN:VEVENT
SUMMARY:LVCCompComm biweekly meeting
DTSTART:20260414T140000Z
DTEND:20260414T150000Z
DTSTAMP:20260421T104900Z
UID:indico-event-9@indico.igwn.org
DESCRIPTION: \n \n\nhttps://indico.igwn.org/event/9/
URL:https://indico.igwn.org/event/9/
END:VEVENT
END:VCALENDAR
