BEGIN:VCALENDAR
VERSION:2.0
PRODID:-//CERN//INDICO//EN
BEGIN:VEVENT
SUMMARY:LVCCompComm biweekly meeting
DTSTART:20260331T140000Z
DTEND:20260331T150000Z
DTSTAMP:20260421T104000Z
UID:indico-event-8@indico.igwn.org
DESCRIPTION:See Wiki Agenda at https://git.ligo.org/groups/computing/-/wik
 is/Meetings/CompComm/CompComm20260331\n \n\nhttps://indico.igwn.org/event
 /8/
URL:https://indico.igwn.org/event/8/
END:VEVENT
END:VCALENDAR
